BEGIN:VCALENDAR
PRODID:-//Macron Software//NONSGML WebToDate//EN
VERSION:2.0
METHOD:publish
BEGIN:VEVENT
DTSTAMP:20260419T152808
DTSTART:20241114T093000
DTEND:20241114T130000
LOCATION:
DESCRIPTION:
SUMMARY:Konference Připravme se na změny
CLASS:PUBLIC
END:VEVENT
END:VCALENDAR