BEGIN:VCALENDAR
PRODID:-//Macron Software//NONSGML WebToDate//EN
VERSION:2.0
METHOD:publish
BEGIN:VEVENT
DTSTAMP:20260421T111329
DTSTART:20241107T090000
DTEND:20241107T130000
LOCATION:
DESCRIPTION:


SUMMARY:39. schůze kontrolního výboru PS
CLASS:PUBLIC
END:VEVENT
END:VCALENDAR