BEGIN:VCALENDAR
PRODID:-//Macron Software//NONSGML WebToDate//EN
VERSION:2.0
METHOD:publish
BEGIN:VEVENT
DTSTAMP:20260419T153255
DTSTART:20241106T143000
DTEND:20241106T235959
LOCATION:
DESCRIPTION:
SUMMARY:Schůze vlády ČR
CLASS:PUBLIC
END:VEVENT
END:VCALENDAR