BEGIN:VCALENDAR
PRODID:-//Macron Software//NONSGML WebToDate//EN
VERSION:2.0
METHOD:publish
BEGIN:VEVENT
DTSTAMP:20260421T111408
DTSTART:20250307T000000
DTEND:20250308T235959
LOCATION:
DESCRIPTION:
SUMMARY:Hackathon veřejné správy 6.0
CLASS:PUBLIC
END:VEVENT
END:VCALENDAR